BEGIN:VCALENDAR
VERSION:2.0
PRODID:-//Troop 5014 - ECPv5.3.1.1//NONSGML v1.0//EN
CALSCALE:GREGORIAN
METHOD:PUBLISH
X-WR-CALNAME:Troop 5014
X-ORIGINAL-URL:http://troop5014.org
X-WR-CALDESC:Events for Troop 5014
BEGIN:VTIMEZONE
TZID:America/New_York
BEGIN:DAYLIGHT
TZOFFSETFROM:-0500
TZOFFSETTO:-0400
TZNAME:EDT
DTSTART:20190310T070000
END:DAYLIGHT
BEGIN:STANDARD
TZOFFSETFROM:-0400
TZOFFSETTO:-0500
TZNAME:EST
DTSTART:20191103T060000
END:STANDARD
END:VTIMEZONE
BEGIN:VEVENT
DTSTART;TZID=America/New_York:20190929T060000
DTEND;TZID=America/New_York:20190929T080000
DTSTAMP:20260421T063206
CREATED:20190925T145145Z
LAST-MODIFIED:20190925T145145Z
UID:325-1569736800-1569744000@troop5014.org
SUMMARY:Walmart Popcorn Show and Sell
DESCRIPTION:
URL:http://troop5014.org/event/walmart-popcorn-show-and-sell/
LOCATION:Walmart Lockport
ORGANIZER;CN="Troop%205014":MAILTO:info@itctroopforgirls.org
END:VEVENT
END:VCALENDAR