BEGIN:VCALENDAR
VERSION:2.0
PRODID:-//Troop 5014 - ECPv5.3.1.1//NONSGML v1.0//EN
CALSCALE:GREGORIAN
METHOD:PUBLISH
X-WR-CALNAME:Troop 5014
X-ORIGINAL-URL:http://troop5014.org
X-WR-CALDESC:Events for Troop 5014
BEGIN:VTIMEZONE
TZID:America/New_York
BEGIN:DAYLIGHT
TZOFFSETFROM:-0500
TZOFFSETTO:-0400
TZNAME:EDT
DTSTART:20230312T070000
END:DAYLIGHT
BEGIN:STANDARD
TZOFFSETFROM:-0400
TZOFFSETTO:-0500
TZNAME:EST
DTSTART:20231105T060000
END:STANDARD
END:VTIMEZONE
BEGIN:VEVENT
DTSTART;TZID=America/New_York:20230525T130000
DTEND;TZID=America/New_York:20230525T130000
DTSTAMP:20260424T090242
CREATED:20230515T012614Z
LAST-MODIFIED:20230522T040512Z
UID:2466-1685019600-1685019600@troop5014.org
SUMMARY:Flag Placement
DESCRIPTION:The Flag Placement is when we place small flags on the gravestones of veterans in the local cemeteries. The Lockport Veterans of Foreign Wars (VFW) and American Legion post are the sponsors for the effort and supply the small flags\, The scouts help place the flags. Below is this years schedule \n\nThur May 25th 5:00 PM Glenwood cemetery  325 Glenwood Ave\, Lockport\, NY 14094. Look for car. \nThur May 25th 6:00 PM Coldsprings Cemetery 4849 Cold Springs Rd\, Lockport\, NY 14094. Meet at the bell tower in the lower section\,\nThur May25 ~7PM. Immediately following the flags placement at both cemeteries we are welcome to go back to the VFW hall for soda and Pizza 112 Caledonia St\, Lockport\, NY 14094\n\nTime spent  pacing flags does count as service hours. \n 
URL:http://troop5014.org/event/vfw-flag-placement/
LOCATION:Gleenwood Cementary
END:VEVENT
END:VCALENDAR