BEGIN:VCALENDAR
VERSION:2.0
PRODID:-//Troop 5014 - ECPv5.3.1.1//NONSGML v1.0//EN
CALSCALE:GREGORIAN
METHOD:PUBLISH
X-WR-CALNAME:Troop 5014
X-ORIGINAL-URL:http://troop5014.org
X-WR-CALDESC:Events for Troop 5014
BEGIN:VTIMEZONE
TZID:America/New_York
BEGIN:DAYLIGHT
TZOFFSETFROM:-0500
TZOFFSETTO:-0400
TZNAME:EDT
DTSTART:20200308T070000
END:DAYLIGHT
BEGIN:STANDARD
TZOFFSETFROM:-0400
TZOFFSETTO:-0500
TZNAME:EST
DTSTART:20201101T060000
END:STANDARD
END:VTIMEZONE
BEGIN:VEVENT
DTSTART;TZID=America/New_York:20200202T070000
DTEND;TZID=America/New_York:20200202T090000
DTSTAMP:20260424T140906
CREATED:20191120T025807Z
LAST-MODIFIED:20200117T083358Z
UID:367-1580626800-1580634000@troop5014.org
SUMMARY:Scout Sunday & Flag Retirement
DESCRIPTION:Meet at St. Johns at 11 AM \n  \n11;30 Scout Sunday Mass \n12:30 Flag retirement outside \n 
URL:http://troop5014.org/event/scout-sunday-flag-retirement-tentative/
LOCATION:ST. Johns\, 168 Chestnut St\,\, Lockport\, NY\, 14094\, United States
ORGANIZER;CN="Troop%205014":MAILTO:info@itctroopforgirls.org
END:VEVENT
END:VCALENDAR