BEGIN:VCALENDAR
VERSION:2.0
PRODID:-//Troop 5014 - ECPv5.3.1.1//NONSGML v1.0//EN
CALSCALE:GREGORIAN
METHOD:PUBLISH
X-WR-CALNAME:Troop 5014
X-ORIGINAL-URL:http://troop5014.org
X-WR-CALDESC:Events for Troop 5014
BEGIN:VTIMEZONE
TZID:America/New_York
BEGIN:DAYLIGHT
TZOFFSETFROM:-0500
TZOFFSETTO:-0400
TZNAME:EDT
DTSTART:20200308T070000
END:DAYLIGHT
BEGIN:STANDARD
TZOFFSETFROM:-0400
TZOFFSETTO:-0500
TZNAME:EST
DTSTART:20201101T060000
END:STANDARD
END:VTIMEZONE
BEGIN:VEVENT
DTSTART;TZID=America/New_York:20200802T020000
DTEND;TZID=America/New_York:20200802T173000
DTSTAMP:20260424T115253
CREATED:20200729T061101Z
LAST-MODIFIED:20200729T062104Z
UID:1087-1596333600-1596389400@troop5014.org
SUMMARY:Dittmer Merit Badge Day
DESCRIPTION:Several Scouts will participate in the Canoe/kayak MB at Dittmer \n6:00 am meet at St. Johns for those car pooling\n6:15 leave st. Johns\n8:30 am Assemble in the parade field for Flag Raising and Program Information\n9:00 am All Sessions start\nNoon Lunch Break (lunch brought by you or your troop)\n1:00 – 5:00 pm Continue and finish your Merit Badge.\n5:00 pm Dinner (brought by you or your Troop)\n6:15 pm Campfire Program\n7:30 pm Head Home\n9:30 Arrive St. Johns
URL:http://troop5014.org/event/dittmer-merit-badge-day/
LOCATION:Camp Dittmer\, 2212 Toll Rd\, Phelps\, NY\, 14532\, United States
ATTACH;FMTTYPE=image/jpeg:http://troop5014.org/wp-content/uploads/2020/07/kayak.jpg
ORGANIZER;CN="Troop%205014":MAILTO:info@itctroopforgirls.org
END:VEVENT
END:VCALENDAR